BEGIN:VCALENDAR
VERSION:2.0
PRODID:-//Louth Athletics Club - ECPv6.0.13//NONSGML v1.0//EN
CALSCALE:GREGORIAN
METHOD:PUBLISH
X-WR-CALNAME:Louth Athletics Club
X-ORIGINAL-URL:https://louth-ac.org.uk
X-WR-CALDESC:Events for Louth Athletics Club
REFRESH-INTERVAL;VALUE=DURATION:PT1H
X-Robots-Tag:noindex
X-PUBLISHED-TTL:PT1H
BEGIN:VTIMEZONE
TZID:UTC
BEGIN:STANDARD
TZOFFSETFROM:+0000
TZOFFSETTO:+0000
TZNAME:UTC
DTSTART:20170101T000000
END:STANDARD
END:VTIMEZONE
BEGIN:VEVENT
DTSTART;TZID=UTC:20171116T181500
DTEND;TZID=UTC:20171116T193000
DTSTAMP:20260424T175949
CREATED:20171007T182154Z
LAST-MODIFIED:20171007T182154Z
UID:2595-1510856100-1510860600@louth-ac.org.uk
SUMMARY:# Linden Walk Figure of Eight
DESCRIPTION:
URL:https://louth-ac.org.uk/event/linden-walk-figure-of-eight-8/
LOCATION:Meridian Leisure Centre\, Wood Lane\, Louth\, Lincolnshire\, LN11 8RS\, United Kingdom
CATEGORIES:Member training,Wear Hi-Viz
END:VEVENT
BEGIN:VEVENT
DTSTART;TZID=UTC:20171114T181500
DTEND;TZID=UTC:20171114T193000
DTSTAMP:20260424T175949
CREATED:20171007T181802Z
LAST-MODIFIED:20171102T210451Z
UID:2593-1510683300-1510687800@louth-ac.org.uk
SUMMARY:# Town 5 (clockwise with strides)
DESCRIPTION:
URL:https://louth-ac.org.uk/event/town-5-clockwise-with-strides/
LOCATION:Louth Tractors\, Tattershall Way\, Louth\, LN11 0HH\, United Kingdom
CATEGORIES:Member training,Wear Hi-Viz
END:VEVENT
BEGIN:VEVENT
DTSTART;TZID=UTC:20171112T123000
DTEND;TZID=UTC:20171112T170000
DTSTAMP:20260424T175949
CREATED:20170927T185353Z
LAST-MODIFIED:20170927T185353Z
UID:2483-1510489800-1510506000@louth-ac.org.uk
SUMMARY:Market Rasen 10k
DESCRIPTION:Click here for full event details \n• Date: Sunday 12th November \n• Start Time: 12:30 pm  \n• Location: Market Rasen Racecourse \n• Pre-Race Entry: Affiliated £15/Unaffiliated £17 \n• Price for race day entry: £20 \n• Online booking through www.therealeventscompany.co.uk  \n• Hard cop application forms available on request \n• Race Permit: Applied For  \nMarket Rasen 10k makes its debut as the first of our brand new Real Events Company Run Series. \nThis multi terrain race takes place on roads fields and forests and is perfect for those who love the space of running in the countryside! \nNot only is this 10k multi-terrain race a great event when it comes to motivating people to get active and do more exercise\, it also brings the local communities together. You don’t have to be a serious runner. You can walk\, jog or run. \nThe race starts at Market Rasen Racecourse (but you don’t need to be a thoroughbred to enter!) before going onto Legsby Road then onto Dog Kennel Wood. Runners\, Joggers and Walker will then complete a loop of the woods\, with the surface changing from road to grass and some uneven surfaces\, before going back onto Legsby Road and then back in to Market Rasen Racecourse to the finish. \nWhether you are running for fun\, a charity or practically pro! we offer a race on closed roads\, cleared tracks through ancient woodland and grassed paths. The route includes a few hills to offer a small challenge around the course in some of the most scenic Lincolnshire countryside. \nThe Autumn colours should make this a race to remember in this natural area of beauty. \nThe Market Rasen 10k Race will be electronically timed \nRace numbers and your timing chip can be collected on the morning of the race between 10:00am and 12:25 pm. Please allow enough time to collect these from Race Registration \nFirst Aid provision at the start/finish and along the route will be supplied by British Red Cross. \nThe course will be marshalled by qualified staff \nHot & Cold drink and Sandwiches are available in the Red Rum Bar at the racecourse \nToilets are in the Brocklesby Suit at the racecourse \n 
URL:https://louth-ac.org.uk/event/market-rasen-10k/
LOCATION:Market Rasen Race Course\, Legsby Road\, Market Rasen\, Lincolnshire\, LN8 3EA\, United Kingdom
END:VEVENT
BEGIN:VEVENT
DTSTART;TZID=UTC:20171112T110000
DTEND;TZID=UTC:20171112T160000
DTSTAMP:20260424T175949
CREATED:20171004T190049Z
LAST-MODIFIED:20171004T190049Z
UID:2551-1510484400-1510502400@louth-ac.org.uk
SUMMARY:Scunthorpe XC
DESCRIPTION:Scunthorpe & District AC \nAnnual Quibell Park Cross Country \nIn memory of Allan Balderson \n(Held under UKA & ECCA rules) \nAt Quibell Park (DN17 1SR) on Sunday 12th November 2017 \n  \n\nFun run 1250m 11.15\nU11 Girls 2000m 11.30\nU11 Boys 2000m 11.30\nU13 Girls 2700m 11.45\nU13 Boys 2700m 11.45\nU15 Girls 4000m 12.05\nU15 Boys 4500m 12.45\nSenior/Veteran Men 10200m 13.20\nU17 Men 6400m 14.20\nU17/Senior/Veteran Women 6400m 14.20\n\n  \nTimes and distances are approximate. The Club reserves the right to start a race before time stated. \nAWARDS: \nU17/Senior/Veteran                prizes to first three \nU11/U13/U15                         Trophies to first three \nFun Run                                  medal and chocolate for all finishers \nAthletes are only eligible for ONE prize excluding team award. \nTEAM AWARDS:   to first team in each event (except 9 and 1) \nFirst 3 runners to finish for club to count as team\, identical club colours of registered design must be worn to be eligible. \nENTRY FEES: events 1 £3.00         2-7 £5.00         8-10 £8.00 \nPlus £2.00 for all unattached Seniors and Veterans \nPlus £2.00 entry on the day \nCheques and P.O.s payable to Scunthorpe & District A.C. \nAll entries must be hard copy and with payment. \nENTRIES TO: Rachael Abdi-Stephenson\, 10 Greenwich close\, Scunthorpe DN15 8GZ \nE MAIL: rachaelabdi@hotmail.co.uk
URL:https://louth-ac.org.uk/event/scunthorpe-xc/
LOCATION:Quibell Park\, Scunthorpe\, Quibell Park Stadium\, Brumby Wood Lane\, Scunthorpe\, North Lincolnshire\, DN17 1ST\, United Kingdom
END:VEVENT
BEGIN:VEVENT
DTSTART;TZID=UTC:20171111T193000
DTEND;TZID=UTC:20171111T220000
DTSTAMP:20260424T175949
CREATED:20171021T083727Z
LAST-MODIFIED:20171021T084405Z
UID:2625-1510428600-1510437600@louth-ac.org.uk
SUMMARY:LAC Presentation Evening
DESCRIPTION:Saturday 11th Nov 7pm for 7.30pm\,  Presentation Night\, The Pavillion\, London Road\, Louth \n 
URL:https://louth-ac.org.uk/event/lac-presentation-evening/
LOCATION:The Pavillion\, London Road\, Louth\, Lincolnshire\, LN11 9QP\, United Kingdom
END:VEVENT
BEGIN:VEVENT
DTSTART;TZID=UTC:20171109T181500
DTEND;TZID=UTC:20171109T193000
DTSTAMP:20260424T175949
CREATED:20171007T181615Z
LAST-MODIFIED:20171007T181615Z
UID:2591-1510251300-1510255800@louth-ac.org.uk
SUMMARY:# Town 6 (steady pace - clockwise)
DESCRIPTION:
URL:https://louth-ac.org.uk/event/town-6-steady-pace-clockwise/
LOCATION:Meridian Leisure Centre\, Wood Lane\, Louth\, Lincolnshire\, LN11 8RS\, United Kingdom
CATEGORIES:Member training,Wear Hi-Viz
END:VEVENT
BEGIN:VEVENT
DTSTART;TZID=UTC:20171107T185000
DTEND;TZID=UTC:20171107T193000
DTSTAMP:20260424T175949
CREATED:20171007T180730Z
LAST-MODIFIED:20171007T180741Z
UID:2580-1510080600-1510083000@louth-ac.org.uk
SUMMARY:Cleethorpes 5k series - race 1
DESCRIPTION:5K Prom Race Series\n​Race Dates:\nTuesday 7th November 2017: Online Entries; 5K Results \nTuesday 5th December 2017: ​​Online Entries; 5K Results \n​Tuesday 9th January 2018: Online Entries; 5K Results \nTuesday 6th February 2018: Online Entries; 5K Results \nTuesday 6th March 2018: Online Entries; 5K Results \n\nRace Details:\nRace HQ: NO 1 Refreshment Room\, 1 Station Approach\, Cleethorpes\, DN35 8AX \nRace Start Line: Promenade near Kingsway Kiosk\, Cleethorpes. \nRegistration: Please collect numbers from the Race HQ between 6:00pm and 6:30pm. \nRace Start Time: 6:50pm \n\nRace Information:\nThere is a time limit of 40 minutes for this race. \nNo entries on the day will be accepted – this is strictly a pre-entries only event. The race is restricted to 150 competitors due to safety reasons. Minimum age is 11. \nWheelchair users wishing to enter this event are asked to contact us prior to the event for details on how to enter. \nHeadphones are strictly not permitted during the event as per UKA Rules. \nIf the race is cancelled due to adverse weather conditions there will be no refunds given. Any funds\, after expenses\, will be donated to Cleethorpes AC’s Charity of the Year. \nPlease check the club’s facebook page for on the day event information. \nIf you wish to transfer your entry to another runner\, you will need to keep the email received when entering and follow the instructions.  This will be the only way to do a transfer. The last day to transfer your entry to another runner is Sunday 29th October 2017.
URL:https://louth-ac.org.uk/event/cleethorpes-5k-series/
LOCATION:Kingsway Kiosks Cafe\, DN35 0BY
ORGANIZER;CN="Cleethorpes%20Athletic%20Club":MAILTO:kev_green@hotmail.co.uk
END:VEVENT
BEGIN:VEVENT
DTSTART;TZID=UTC:20171107T181500
DTEND;TZID=UTC:20171107T193000
DTSTAMP:20260424T175949
CREATED:20171007T180217Z
LAST-MODIFIED:20171102T210343Z
UID:2578-1510078500-1510083000@louth-ac.org.uk
SUMMARY:# Industrial Estate 3k
DESCRIPTION:
URL:https://louth-ac.org.uk/event/industrial-estate-3k-4/
LOCATION:Louth Tractors\, Tattershall Way\, Louth\, LN11 0HH\, United Kingdom
CATEGORIES:Member training,Wear Hi-Viz
END:VEVENT
BEGIN:VEVENT
DTSTART;TZID=UTC:20171105T100000
DTEND;TZID=UTC:20171105T140000
DTSTAMP:20260424T175949
CREATED:20170821T083852Z
LAST-MODIFIED:20170821T083852Z
UID:2362-1509876000-1509890400@louth-ac.org.uk
SUMMARY:Three River Challenge
DESCRIPTION:Three River Challenge. \n\n\nThis year’s event will be held on 5th November\, 10.00hrs at South Kyme\, Lincs.  LN4 4AL \n\n\nThis is the fourth event we have organised.  Previous entrants have enjoyed the challenging yet enjoyable run with some pleasant views and surroundings.  Just £10 to enter\, with hot refreshments provided at the finish line. \n\n\nPlease visit our facebook page for further information and photos from previous years.  Please spread the word and email me with any questions. \n\n\n   \n\n\nI hope you can make it. \n\n\nBest wishes\nCaroline Midgley \n\n\nwww.facebook.com/threeriverchallenge
URL:https://louth-ac.org.uk/event/three-river-challenge/
END:VEVENT
BEGIN:VEVENT
DTSTART;TZID=UTC:20171105T080000
DTEND;TZID=UTC:20171105T170000
DTSTAMP:20260424T175949
CREATED:20170817T201530Z
LAST-MODIFIED:20170925T131821Z
UID:2342-1509868800-1509901200@louth-ac.org.uk
SUMMARY:Lincolnshire XC Race 2
DESCRIPTION:Cross Country 2017-18 Season \n\nLincolnshire Athletics Association Cross Country: \nSunday 29th October 2017 – Lincoln West Common  – Details still to be confirmed. \nSunday 5th November 2017 – Anton’s Gowt Equestrian Centre \nSunday 19th November 2017 – Bourne tbc \nSunday 10th December 2017 – Belton House\, Grantham \n  \nSunday 7th January 2018 (County Championships) tbc \nFor more information visit the Lincs AA website www.lincsathletics.com
URL:https://louth-ac.org.uk/event/lincolnshire-xc-race-2/
LOCATION:Castledyke Equestrian Centre\, Gipsey Bridge\, Boston\, Lincolnshire\, PE22 7Bw\, United Kingdom
END:VEVENT
BEGIN:VEVENT
DTSTART;TZID=UTC:20171102T181500
DTEND;TZID=UTC:20171102T193000
DTSTAMP:20260424T175949
CREATED:20171007T180032Z
LAST-MODIFIED:20171007T180119Z
UID:2576-1509646500-1509651000@louth-ac.org.uk
SUMMARY:# Up and Downs
DESCRIPTION:Monks Dyke Road\, up Church Street\, down Cinder Lane\, up Aswell Street\, down Lee Street\, up Upgate\, down George Street\, up Irish Hill and reverse route starting with up George Street. \nSprint up hill\, re-group and jog down \n 
URL:https://louth-ac.org.uk/event/up-and-downs/
LOCATION:Meridian Leisure Centre\, Wood Lane\, Louth\, Lincolnshire\, LN11 8RS\, United Kingdom
CATEGORIES:Member training,Wear Hi-Viz
END:VEVENT
BEGIN:VEVENT
DTSTART;TZID=UTC:20171031T181500
DTEND;TZID=UTC:20171031T193000
DTSTAMP:20260424T175949
CREATED:20171007T174548Z
LAST-MODIFIED:20171007T174548Z
UID:2572-1509473700-1509478200@louth-ac.org.uk
SUMMARY:# Industrial Estate Intervals
DESCRIPTION:
URL:https://louth-ac.org.uk/event/industrial-estate-intervals/
LOCATION:LouthTennis Centre\, 10 Scarborough Road\, LOUTH\, Lincolnshire\, LN11 0WD\, United Kingdom
CATEGORIES:Member training,Wear Hi-Viz
END:VEVENT
BEGIN:VEVENT
DTSTART;TZID=UTC:20171029T080000
DTEND;TZID=UTC:20171029T170000
DTSTAMP:20260424T175949
CREATED:20171004T190542Z
LAST-MODIFIED:20171004T190542Z
UID:2553-1509264000-1509296400@louth-ac.org.uk
SUMMARY:Brigg 10k Poppy Race
DESCRIPTION:The Brigg Poppy 10k 2017\nBrigg 10k Poppy race is a 10k road race from Market Place Brigg out to Cadney village round Cadney then back to Brigg. This is a good first 10k to do for novices  and is good for Personnel bests to be broken. Bespoke Medal for all finishers. \n  \n 
URL:https://louth-ac.org.uk/event/brigg-10k-poppy-race/
LOCATION:Brigg 10k\, Market Place\, Brigg\, DN20 8LH\, United Kingdom
END:VEVENT
BEGIN:VEVENT
DTSTART;TZID=UTC:20171029T080000
DTEND;TZID=UTC:20171029T170000
DTSTAMP:20260424T175949
CREATED:20170817T201437Z
LAST-MODIFIED:20170925T131655Z
UID:2340-1509264000-1509296400@louth-ac.org.uk
SUMMARY:Lincolnshire XC Race 1
DESCRIPTION:Cross Country 2017-18 Season \n\nLincolnshire Athletics Association Cross Country: \nSunday 29th October 2017 – Lincoln West Common  – Details still to be confirmed. \nSunday 5th November 2017 – Anton’s Gowt Equestrian Centre \nSunday 19th November 2017 – Bourne tbc \nSunday 10th December 2017 – Belton House\, Grantham \nSunday 7th January 2018 (County Championships) tbc \nFor more information visit the Lincs AA website www.lincsathletics.com
URL:https://louth-ac.org.uk/event/lincolnshire-xc-race-1/
END:VEVENT
BEGIN:VEVENT
DTSTART;TZID=UTC:20171026T181500
DTEND;TZID=UTC:20171026T193000
DTSTAMP:20260424T175949
CREATED:20171007T174413Z
LAST-MODIFIED:20171007T174442Z
UID:2570-1509041700-1509046200@louth-ac.org.uk
SUMMARY:# Hospital Hill TT
DESCRIPTION:Top Ten Runners Since October 2014\n\n\n\n\nMale\n\n\nFemale\n\n\n\n\n1\nAdam D\n11.59\n1\nKerry S\n14.40\n\n\n2\nLuke\n12.07\n2\nMay\n14.52\n\n\n3\nJames\n12.12\n3\nDebbie\n15.10\n\n\n4\nDen\n12.27\n4\nMolly\n15.30\n\n\n5\nJack\n12.30\n5\nKerry D\n15.41\n\n\n6\nJevon\n12.56\n6\nTrudy\n15.46\n\n\n7\nRichard\n13.10\n7\nHannah\n15.48\n\n\n8\nNigel\n13.14\n8\nRuth\n15.59\n\n\n9\nDeclan\n13.17\n8\nLisa\n15.59\n\n\n10\nLucas\n13.18\n10\nShirley\n16.52
URL:https://louth-ac.org.uk/event/hospital-hill-tt/
LOCATION:Meridian Leisure Centre\, Wood Lane\, Louth\, Lincolnshire\, LN11 8RS\, United Kingdom
CATEGORIES:Member training,Wear Hi-Viz
END:VEVENT
BEGIN:VEVENT
DTSTART;TZID=UTC:20171024T181500
DTEND;TZID=UTC:20171024T193000
DTSTAMP:20260424T175949
CREATED:20171007T174146Z
LAST-MODIFIED:20171007T174146Z
UID:2568-1508868900-1508873400@louth-ac.org.uk
SUMMARY:# Town 5 (brisk pace - anti-clockwise)
DESCRIPTION:
URL:https://louth-ac.org.uk/event/town-5-brisk-pace-anti-clockwise/
LOCATION:LouthTennis Centre\, 10 Scarborough Road\, LOUTH\, Lincolnshire\, LN11 0WD\, United Kingdom
CATEGORIES:Member training,Wear Hi-Viz
END:VEVENT
BEGIN:VEVENT
DTSTART;TZID=UTC:20171019T181500
DTEND;TZID=UTC:20171019T193000
DTSTAMP:20260424T175949
CREATED:20171007T174023Z
LAST-MODIFIED:20171007T175109Z
UID:2566-1508436900-1508441400@louth-ac.org.uk
SUMMARY:# Linden Walk - Figure of Eight
DESCRIPTION:Top Ten Runners Since October 2014\n\n\n\nMale\n\n\nFemale\n\n\n\n\n1\nJames\n20.39\n1\nKerry\n24.22\n\n\n2\nLuke\n22.11\n2\nDebbie\n25.19\n\n\n3\nKev W\n22.36\n3\nTrudy\n26.38\n\n\n4\nPaul\n22.52\n3\nLisa\n26.38\n\n\n5\nDeclan\n22.54\n5\nFiona\n28.38\n\n\n6\nRichard\n23.01\n6\nTanya\n30.17\n\n\n7\nJack\n23.12\n7\nLinda\n30.56\n\n\n8\nJason O\n23.59\n8\nNat\n31.00\n\n\n9\nMick\n24.57\n9\nHayley\n31.31\n\n\n10\nChris\n24.58\n10\nJo\n32.39
URL:https://louth-ac.org.uk/event/linden-walk-figure-of-eight-7/
LOCATION:Meridian Leisure Centre\, Wood Lane\, Louth\, Lincolnshire\, LN11 8RS\, United Kingdom
CATEGORIES:Member training,Wear Hi-Viz
END:VEVENT
BEGIN:VEVENT
DTSTART;TZID=UTC:20171017T181500
DTEND;TZID=UTC:20171017T193000
DTSTAMP:20260424T175949
CREATED:20171007T173911Z
LAST-MODIFIED:20171007T173911Z
UID:2564-1508264100-1508268600@louth-ac.org.uk
SUMMARY:# Industrial Estate Reps
DESCRIPTION:
URL:https://louth-ac.org.uk/event/industrial-estate-reps/
LOCATION:LouthTennis Centre\, 10 Scarborough Road\, LOUTH\, Lincolnshire\, LN11 0WD\, United Kingdom
CATEGORIES:Member training,Wear Hi-Viz
END:VEVENT
BEGIN:VEVENT
DTSTART;TZID=UTC:20171012T181500
DTEND;TZID=UTC:20171012T193000
DTSTAMP:20260424T175949
CREATED:20171007T173814Z
LAST-MODIFIED:20171007T173814Z
UID:2562-1507832100-1507836600@louth-ac.org.uk
SUMMARY:# Town 6 (anti-clockwise)
DESCRIPTION:
URL:https://louth-ac.org.uk/event/town-6-anti-clockwise/
LOCATION:Meridian Leisure Centre\, Wood Lane\, Louth\, Lincolnshire\, LN11 8RS\, United Kingdom
CATEGORIES:Member training,Wear Hi-Viz
END:VEVENT
BEGIN:VEVENT
DTSTART;TZID=UTC:20171010T181500
DTEND;TZID=UTC:20171010T190000
DTSTAMP:20260424T175949
CREATED:20171007T173704Z
LAST-MODIFIED:20171007T174757Z
UID:2560-1507659300-1507662000@louth-ac.org.uk
SUMMARY:# Industrial Estate 3k
DESCRIPTION:Top Ten Runners Since October 2015\n\n\n\nMale\n\n\nFemale\n\n\n\n\n1\nJames\n10.08\n1\nEvie\n12.04\n\n\n2\nDen\n10.35\n2\nHannah\n12.06\n\n\n3\nNigel\n10.53\n3\nKerry\n12.20\n\n\n4\nSam\n11.05\n4\nJo J\n12.34\n\n\n5\nJack\n11.11\n5\nEllie\n12.35\n\n\n6\nRichard\n11.17\n6\nFreya\n12.42\n\n\n7\nPaul\n11.18\n7\nLisa\n13.04\n\n\n8\nJosh\n11.21\n7\nDebbie\n13.04\n\n\n9\nKev h\n11.26\n9\nTrudy\n13.32\n\n\n10\nCaleb\n11.44\n10\nFaye\n13.50
URL:https://louth-ac.org.uk/event/industrial-estate-3k-3/
LOCATION:LouthTennis Centre\, 10 Scarborough Road\, LOUTH\, Lincolnshire\, LN11 0WD\, United Kingdom
CATEGORIES:Member training,Wear Hi-Viz
END:VEVENT
BEGIN:VEVENT
DTSTART;TZID=UTC:20171008T110000
DTEND;TZID=UTC:20171008T150000
DTSTAMP:20260424T175949
CREATED:20170817T201230Z
LAST-MODIFIED:20170817T201230Z
UID:2338-1507460400-1507474800@louth-ac.org.uk
SUMMARY:Cleethorpes XC Events
DESCRIPTION:Cross Country 2017-18 Season \n\nCleethorpes Cross Country: \nSunday 8th October 2017  – Entry Details \nLincolnshire Athletics Association Cross Country: \nSunday 29th October 2017 – Lincoln West Common \nSunday 5th November 2017 – tbc \nSunday 19th November 2017 – Anton’s Gowt Equestrian Centre \nSunday 10th December 2017 – tbc \nSunday 7th January 2018 (County Championships) tbc \nFor more information visit the Lincs AA website www.lincsathletics.com or events page of this website \nNorthern Athletics Cross Country: \nSaturday 27th January 2018
URL:https://louth-ac.org.uk/event/cleethorpes-xc-events/
ORGANIZER;CN="Cleethorpes%20Athletic%20Club":MAILTO:kev_green@hotmail.co.uk
END:VEVENT
BEGIN:VEVENT
DTSTART;TZID=UTC:20171008T100000
DTEND;TZID=UTC:20171008T123000
DTSTAMP:20260424T175949
CREATED:20170817T202754Z
LAST-MODIFIED:20170817T202921Z
UID:2351-1507456800-1507465800@louth-ac.org.uk
SUMMARY:Tennyson 8 Multi Terrain
DESCRIPTION:Online entry available at: https://www.sportsentrysolutions.com/new_race_page.php?recordID=200583 \nGeorge and Dragon – High Street Hagworthingham\, Lincolnshire – PE23 4NA \nFurther details available via Facebook \n  \n  \n  \n\n\n\n\n\n\n\n\n 
URL:https://louth-ac.org.uk/event/tennyson-8-multi-terrain/
LOCATION:Hagworthingham\, Hagworthingham\, PE23 4NA\, United Kingdom
END:VEVENT
BEGIN:VEVENT
DTSTART;TZID=UTC:20171005T181500
DTEND;TZID=UTC:20171005T190000
DTSTAMP:20260424T175949
CREATED:20170927T190510Z
LAST-MODIFIED:20170927T190510Z
UID:2491-1507227300-1507230000@louth-ac.org.uk
SUMMARY:# Hospital Hill Time Trial
DESCRIPTION:Meet at Meridian Leisure Centre or bottom of Broadbank. \nRemember to wear hi-viz
URL:https://louth-ac.org.uk/event/hospital-hill-time-trial-7/
CATEGORIES:Member training,Wear Hi-Viz
END:VEVENT
BEGIN:VEVENT
DTSTART;TZID=UTC:20171003T181500
DTEND;TZID=UTC:20171003T193000
DTSTAMP:20260424T175949
CREATED:20170927T190242Z
LAST-MODIFIED:20170927T190242Z
UID:2488-1507054500-1507059000@louth-ac.org.uk
SUMMARY:# Town 6
DESCRIPTION:Meet at Louth Tennis Centre
URL:https://louth-ac.org.uk/event/town-6/
LOCATION:LouthTennis Centre\, 10 Scarborough Road\, LOUTH\, Lincolnshire\, LN11 0WD\, United Kingdom
CATEGORIES:Member training
END:VEVENT
BEGIN:VEVENT
DTSTART;TZID=UTC:20171001T093000
DTEND;TZID=UTC:20171001T130000
DTSTAMP:20260424T175949
CREATED:20170405T192322Z
LAST-MODIFIED:20170405T192322Z
UID:2181-1506850200-1506862800@louth-ac.org.uk
SUMMARY:Lincoln Half Marathon
DESCRIPTION:
URL:https://louth-ac.org.uk/event/lincoln-half-marathon/
END:VEVENT
BEGIN:VEVENT
DTSTART;TZID=UTC:20171001T090000
DTEND;TZID=UTC:20171001T150000
DTSTAMP:20260424T175949
CREATED:20170405T192610Z
LAST-MODIFIED:20170821T083354Z
UID:2183-1506848400-1506870000@louth-ac.org.uk
SUMMARY:Mablethorpe Marathon\, Half and 5k  *** CANCELLED***
DESCRIPTION:This event has been cancelled
URL:https://louth-ac.org.uk/event/mablethorpe-marathon-half-and-5k/
END:VEVENT
BEGIN:VEVENT
DTSTART;TZID=UTC:20170930T100000
DTEND;TZID=UTC:20170930T140000
DTSTAMP:20260424T175949
CREATED:20170719T211046Z
LAST-MODIFIED:20170719T211046Z
UID:2296-1506765600-1506780000@louth-ac.org.uk
SUMMARY:Lincolnshire Wolds Tough Ten
DESCRIPTION:The’PRINCEBUILD’35th Lincolnshire Wolds Tough Ten\n\n\nSo you thought Lincolnshire was flat… well think again!!! \nRelish a challenge? Perhaps a 10K is not quite enough? Or you’re training for a half marathon? Then the Tough Ten is for you! \nThe course takes you on a ten-mile route through rolling chalk uplands and steep\, wooded valleys in the heart of the beautiful Lincolnshire Wolds\, an Area of Outstanding Natural Beauty. \nThe Tough Ten race is in its 35th year and Caistor Running Club\, known for the ever-popular Sting in the Tail 10K\, are proud to be its new hosts. We succeed Tape2Tape and the Wolds Vets Running Club who are lending their wealth of experience for a smooth transition to ensure the race remains a local favourite. \nEntry is just £15 affiliated (£17 unaffiliated) and includes a Lincolnshire sausage sandwich and of course a race memento to take away with you. Proceeds from the race will all go to the Lincs & Notts Air Ambulance charity – a very worthwhile cause in this largely rural county. \nThere are just 200 places so don’t miss out!!! \n ENTER ONLINE – Click Here \nSo\, put the 30th September in your diary and get training… we look forward to seeing you there! Race start is at 10:00. 
URL:https://louth-ac.org.uk/event/lincolnshire-wolds-tough-ten/
LOCATION:Swallow Inn\, Caistor Road\, Swallow\, Nr. Market Rasen\, Lincolnshire\, LN7 6DL\, United Kingdom
END:VEVENT
BEGIN:VEVENT
DTSTART;TZID=UTC:20170928T181500
DTEND;TZID=UTC:20170928T193000
DTSTAMP:20260424T175949
CREATED:20170909T145343Z
LAST-MODIFIED:20170925T130150Z
UID:2438-1506622500-1506627000@louth-ac.org.uk
SUMMARY:# Run from Tetford Village hall
DESCRIPTION:Meet at Tetford Village Hall \nHi-viz will be needed and consider wearing a headtorch
URL:https://louth-ac.org.uk/event/red-hill-run/
LOCATION:Tetford Village Hall\, East Road Tetford\, Tetford\, Lincolnshire\, LN9 6QQ
CATEGORIES:Member training,Wear Hi-Viz
END:VEVENT
BEGIN:VEVENT
DTSTART;TZID=UTC:20170926T181500
DTEND;TZID=UTC:20170926T193000
DTSTAMP:20260424T175949
CREATED:20170909T145618Z
LAST-MODIFIED:20170925T130043Z
UID:2444-1506449700-1506454200@louth-ac.org.uk
SUMMARY:# Hubbards Hills
DESCRIPTION:
URL:https://louth-ac.org.uk/event/intervals-5/
LOCATION:Hubbards Hills\, Crowtree Lane\, Louth\, Lincolnshire\, LN11 9QU\, United Kingdom
CATEGORIES:Member training
END:VEVENT
BEGIN:VEVENT
DTSTART;TZID=UTC:20170924T103000
DTEND;TZID=UTC:20170924T133000
DTSTAMP:20260424T175949
CREATED:20170515T160812Z
LAST-MODIFIED:20170515T160812Z
UID:2233-1506249000-1506259800@louth-ac.org.uk
SUMMARY:Isle of Axholme Half Marathon
DESCRIPTION:Market place\nEpworth\nLincolnshire\nDN9 1EP
URL:https://louth-ac.org.uk/event/isle-of-axholme-half-marathon/
LOCATION:Isle of Axholme\, Market Place\, Epworth\, DN9 1EP
END:VEVENT
END:VCALENDAR