BEGIN:VCALENDAR
VERSION:2.0
PRODID:-//Louth Athletics Club - ECPv6.0.13//NONSGML v1.0//EN
CALSCALE:GREGORIAN
METHOD:PUBLISH
X-ORIGINAL-URL:https://louth-ac.org.uk
X-WR-CALDESC:Events for Louth Athletics Club
REFRESH-INTERVAL;VALUE=DURATION:PT1H
X-Robots-Tag:noindex
X-PUBLISHED-TTL:PT1H
BEGIN:VTIMEZONE
TZID:UTC
BEGIN:STANDARD
TZOFFSETFROM:+0000
TZOFFSETTO:+0000
TZNAME:UTC
DTSTART:20180101T000000
END:STANDARD
END:VTIMEZONE
BEGIN:VEVENT
DTSTART;TZID=UTC:20181213T181500
DTEND;TZID=UTC:20181213T193000
DTSTAMP:20260424T163125
CREATED:20181129T113726Z
LAST-MODIFIED:20181129T113726Z
UID:3546-1544724900-1544729400@louth-ac.org.uk
SUMMARY:800m Intervals
DESCRIPTION:13th 800 intervals\n18th town 6 miles\n20th Hospital Hill Time Trial\n\nTuesdays meet Louth Cattle Market\, Thursdays meet Bush Tyres\,Industrial Estate.\nAs usual the final training session before the Christmas break will be the Hospital Hill time trial\nOn Saturday 12th January we will have a dining night at the Black Horse Inn at Donington on Bain 7.00 pm\nTo book please ring 01507 343640 and state that you are part of the athletic club party. I hope that the juniors will join us and bring their mums and dads.\nThe county xc champs are at Biscathorpe on 6th January and i am currently trying to arrange the final Lincs League match at Woodhall in early february.\nThose wishing to take part in the Woodhall 10k in June please note entrys will be open on their facebook on December the 1st\nIn the new year we will resume traing on the 3rd January\nJJ
URL:https://louth-ac.org.uk/event/800m-intervals/
LOCATION:Bush Tyres\, North Holme Road\, Louth\, LN11 0HL
CATEGORIES:Member training,Wear Hi-Viz
END:VEVENT
BEGIN:VEVENT
DTSTART;TZID=UTC:20181218T181500
DTEND;TZID=UTC:20181218T193000
DTSTAMP:20260424T163125
CREATED:20181129T113822Z
LAST-MODIFIED:20181129T113822Z
UID:3548-1545156900-1545161400@louth-ac.org.uk
SUMMARY:Town 6 Miler
DESCRIPTION:18th town 6 miles\n20th Hospital Hill Time Trial\n\nTuesdays meet Louth Cattle Market\, Thursdays meet Bush Tyres\,Industrial Estate.\nAs usual the final training session before the Christmas break will be the Hospital Hill time trial\nOn Saturday 12th January we will have a dining night at the Black Horse Inn at Donington on Bain 7.00 pm\nTo book please ring 01507 343640 and state that you are part of the athletic club party. I hope that the juniors will join us and bring their mums and dads.\nThe county xc champs are at Biscathorpe on 6th January and i am currently trying to arrange the final Lincs League match at Woodhall in early february.\nThose wishing to take part in the Woodhall 10k in June please note entrys will be open on their facebook on December the 1st\nIn the new year we will resume traing on the 3rd January\nJJ
URL:https://louth-ac.org.uk/event/town-6-miler-3/
LOCATION:Cattle Market Car Park\, Off Linden Walk\, Linden Walk\, Louth\, LN11 9EQ
CATEGORIES:Member training,Wear Hi-Viz
END:VEVENT
BEGIN:VEVENT
DTSTART;TZID=UTC:20181220T181500
DTEND;TZID=UTC:20181220T190000
DTSTAMP:20260424T163125
CREATED:20181129T113923Z
LAST-MODIFIED:20181129T113923Z
UID:3550-1545329700-1545332400@louth-ac.org.uk
SUMMARY:Hospital Hill Time Trial
DESCRIPTION:20th Hospital Hill Time Trial\n\nTuesdays meet Louth Cattle Market\, Thursdays meet Bush Tyres\,Industrial Estate.\nAs usual the final training session before the Christmas break will be the Hospital Hill time trial\nOn Saturday 12th January we will have a dining night at the Black Horse Inn at Donington on Bain 7.00 pm\nTo book please ring 01507 343640 and state that you are part of the athletic club party. I hope that the juniors will join us and bring their mums and dads.\nThe county xc champs are at Biscathorpe on 6th January and i am currently trying to arrange the final Lincs League match at Woodhall in early february.\nThose wishing to take part in the Woodhall 10k in June please note entrys will be open on their facebook on December the 1st\nIn the new year we will resume traing on the 3rd January\nJJ
URL:https://louth-ac.org.uk/event/hospital-hill-time-trial-10/
LOCATION:Bush Tyres\, North Holme Road\, Louth\, LN11 0HL
CATEGORIES:Member training,Wear Hi-Viz
END:VEVENT
BEGIN:VEVENT
DTSTART;TZID=UTC:20181226T103000
DTEND;TZID=UTC:20181226T120000
DTSTAMP:20260424T163125
CREATED:20181215T123314Z
LAST-MODIFIED:20181215T123314Z
UID:3562-1545820200-1545825600@louth-ac.org.uk
SUMMARY:Boxing Day Fun Run/Walk
DESCRIPTION:Come along and burn off some calories. \nRun or walk 1\, 2 or 4 laps. \nAdults\, children and Dogs on leads are welcome. \nRegister at Hubbards Hills Cafe from 10:00 am \n£2.50 per person with chocolate treat for all finishers
URL:https://louth-ac.org.uk/event/boxing-day-fun-run-walk/
LOCATION:Hubbards Hills\, Crowtree Lane\, Louth\, Lincolnshire\, LN11 9QU\, United Kingdom
END:VEVENT
BEGIN:VEVENT
DTSTART;TZID=UTC:20190103T181500
DTEND;TZID=UTC:20190103T193000
DTSTAMP:20260424T163125
CREATED:20181229T183308Z
LAST-MODIFIED:20181229T183308Z
UID:3570-1546539300-1546543800@louth-ac.org.uk
SUMMARY:# Town 4.5 miles
DESCRIPTION:3rd Town 4.5 miles \n8th Irish Hill plus 2 miles\n10th 3k Time Trial\n15th Linden Walk Figure of Eight-seniors 3 laps juniors 2 laps\n17th 800 intervals\n22nd Hospital Hill\n24th Town 6 miles\,seniors\, 933 repetions juniors\n29th Up and Downer\n31st Cordeaux Time Trial plus 2 miles
URL:https://louth-ac.org.uk/event/town-4-5-miles/
LOCATION:Bush Tyres\, North Holme Road\, Louth\, LN11 0HL
CATEGORIES:Member training
END:VEVENT
BEGIN:VEVENT
DTSTART;VALUE=DATE:20190106
DTEND;VALUE=DATE:20190107
DTSTAMP:20260424T163125
CREATED:20180906T175435Z
LAST-MODIFIED:20180906T175435Z
UID:3306-1546732800-1546819199@louth-ac.org.uk
SUMMARY:Lincs League County Cross Country Championships
DESCRIPTION:
URL:https://louth-ac.org.uk/event/lincs-league-county-cross-country-championships/
LOCATION:Biscathorpe\, Biscathorpe House\, Lincolnshire\, LN11 9RA\, United Kingdom
END:VEVENT
BEGIN:VEVENT
DTSTART;TZID=UTC:20190108T181500
DTEND;TZID=UTC:20190108T193000
DTSTAMP:20260424T163125
CREATED:20181229T183406Z
LAST-MODIFIED:20181229T183406Z
UID:3572-1546971300-1546975800@louth-ac.org.uk
SUMMARY:# Irish Hill plus 2 miles
DESCRIPTION:8th Irish Hill plus 2 miles\n10th 3k Time Trial\n15th Linden Walk Figure of Eight-seniors 3 laps juniors 2 laps\n17th 800 intervals\n22nd Hospital Hill\n24th Town 6 miles\,seniors\, 933 repetions juniors\n29th Up and Downer\n31st Cordeaux Time Trial plus 2 miles
URL:https://louth-ac.org.uk/event/irish-hill-plus-2-miles/
LOCATION:Cattle Market Car Park\, Off Linden Walk\, Linden Walk\, Louth\, LN11 9EQ
CATEGORIES:Member training
END:VEVENT
BEGIN:VEVENT
DTSTART;TZID=UTC:20190110T080000
DTEND;TZID=UTC:20190110T170000
DTSTAMP:20260424T163125
CREATED:20181229T183502Z
LAST-MODIFIED:20181229T183502Z
UID:3574-1547107200-1547139600@louth-ac.org.uk
SUMMARY:# 3K Time Trial
DESCRIPTION:10th 3k Time Trial\n15th Linden Walk Figure of Eight-seniors 3 laps juniors 2 laps\n17th 800 intervals\n22nd Hospital Hill\n24th Town 6 miles\,seniors\, 933 repetions juniors\n29th Up and Downer\n31st Cordeaux Time Trial plus 2 miles
URL:https://louth-ac.org.uk/event/3k-time-trial-3/
LOCATION:Bush Tyres\, North Holme Road\, Louth\, LN11 0HL
CATEGORIES:Member training
END:VEVENT
BEGIN:VEVENT
DTSTART;TZID=UTC:20190112T190000
DTEND;TZID=UTC:20190112T190000
DTSTAMP:20260424T163125
CREATED:20181129T114113Z
LAST-MODIFIED:20181129T114113Z
UID:3552-1547319600-1547319600@louth-ac.org.uk
SUMMARY:LAC Meal - Black Horse\, Donington
DESCRIPTION:On Saturday 12th January we will have a dining night at the Black Horse Inn at Donington on Bain 7.00 pm\n\nTo book please ring 01507 343640 and state that you are part of the athletic club party.\n\nI hope that the juniors will join us and bring their mums and dads.\n\nJohn Jaines
URL:https://louth-ac.org.uk/event/lac-meal-black-horse-donington/
LOCATION:Black Horse Pub\, Main Road\, Donnington on Bain\, Lincolnshire\, LN11 9TJ\, United Kingdom
END:VEVENT
BEGIN:VEVENT
DTSTART;TZID=UTC:20190115T181500
DTEND;TZID=UTC:20190115T193000
DTSTAMP:20260424T163125
CREATED:20181229T183601Z
LAST-MODIFIED:20181229T183601Z
UID:3576-1547576100-1547580600@louth-ac.org.uk
SUMMARY:# Linden Walk TT
DESCRIPTION:15th Linden Walk Figure of Eight-seniors 3 laps juniors 2 laps\n17th 800 intervals\n22nd Hospital Hill\n24th Town 6 miles\,seniors\, 933 repetions juniors\n29th Up and Downer\n31st Cordeaux Time Trial plus 2 miles
URL:https://louth-ac.org.uk/event/linden-walk-tt-2/
LOCATION:Cattle Market Car Park\, Off Linden Walk\, Linden Walk\, Louth\, LN11 9EQ
CATEGORIES:Member training
END:VEVENT
BEGIN:VEVENT
DTSTART;TZID=UTC:20190117T181500
DTEND;TZID=UTC:20190117T193000
DTSTAMP:20260424T163125
CREATED:20181229T183654Z
LAST-MODIFIED:20181229T183654Z
UID:3578-1547748900-1547753400@louth-ac.org.uk
SUMMARY:# 800 Intervals
DESCRIPTION:17th 800 intervals\n22nd Hospital Hill\n24th Town 6 miles\,seniors\, 933 repetions juniors\n29th Up and Downer\n31st Cordeaux Time Trial plus 2 miles
URL:https://louth-ac.org.uk/event/800-intervals-2/
LOCATION:Bush Tyres\, North Holme Road\, Louth\, LN11 0HL
CATEGORIES:Member training
END:VEVENT
BEGIN:VEVENT
DTSTART;TZID=UTC:20190120T110000
DTEND;TZID=UTC:20190120T143000
DTSTAMP:20260424T163125
CREATED:20181004T194638Z
LAST-MODIFIED:20181004T194638Z
UID:3404-1547982000-1547994600@louth-ac.org.uk
SUMMARY:Barton & District Cross Country
DESCRIPTION:
URL:https://louth-ac.org.uk/event/barton-district-cross-country/
LOCATION:Baysgarth Park\,  \, Barton on Humber\, North Lincolnshire\, DN18 6AH\, United Kingdom
END:VEVENT
BEGIN:VEVENT
DTSTART;TZID=UTC:20190122T181500
DTEND;TZID=UTC:20190122T193000
DTSTAMP:20260424T163125
CREATED:20181229T183755Z
LAST-MODIFIED:20181229T183755Z
UID:3580-1548180900-1548185400@louth-ac.org.uk
SUMMARY:# Hospital Hill TT
DESCRIPTION:22nd Hospital Hill\n24th Town 6 miles\,seniors\, 933 repetions juniors\n29th Up and Downer\n31st Cordeaux Time Trial plus 2 miles
URL:https://louth-ac.org.uk/event/hospital-hill-tt-5/
LOCATION:Cattle Market Car Park\, Off Linden Walk\, Linden Walk\, Louth\, LN11 9EQ
CATEGORIES:Member training,Wear Hi-Viz
END:VEVENT
BEGIN:VEVENT
DTSTART;TZID=UTC:20190124T181500
DTEND;TZID=UTC:20190124T193000
DTSTAMP:20260424T163125
CREATED:20181229T183908Z
LAST-MODIFIED:20181229T183908Z
UID:3582-1548353700-1548358200@louth-ac.org.uk
SUMMARY:# Town 6 (Seniors) 933 Repetitions (Juniors)
DESCRIPTION:24th Town 6 miles\,seniors\, 933 repetions juniors\n29th Up and Downer\n31st Cordeaux Time Trial plus 2 miles
URL:https://louth-ac.org.uk/event/town-6-seniors-933-repetitions-juniors/
LOCATION:Bush Tyres\, North Holme Road\, Louth\, LN11 0HL
CATEGORIES:Member training
END:VEVENT
BEGIN:VEVENT
DTSTART;TZID=UTC:20190127T090000
DTEND;TZID=UTC:20190127T120000
DTSTAMP:20260424T163125
CREATED:20190109T203024Z
LAST-MODIFIED:20190109T203024Z
UID:3676-1548579600-1548590400@louth-ac.org.uk
SUMMARY:Ferriby 10
DESCRIPTION:
URL:https://louth-ac.org.uk/event/ferriby-10/
END:VEVENT
BEGIN:VEVENT
DTSTART;TZID=UTC:20190129T181500
DTEND;TZID=UTC:20190129T193000
DTSTAMP:20260424T163125
CREATED:20181229T183957Z
LAST-MODIFIED:20181229T183957Z
UID:3584-1548785700-1548790200@louth-ac.org.uk
SUMMARY:# Up and Downer
DESCRIPTION:29th Up and Downer\n31st Cordeaux Time Trial plus 2 miles
URL:https://louth-ac.org.uk/event/up-and-downer-6/
LOCATION:Cattle Market Car Park\, Off Linden Walk\, Linden Walk\, Louth\, LN11 9EQ
CATEGORIES:Member training,Wear Hi-Viz
END:VEVENT
BEGIN:VEVENT
DTSTART;TZID=UTC:20190131T181500
DTEND;TZID=UTC:20190131T193000
DTSTAMP:20260424T163125
CREATED:20181229T184052Z
LAST-MODIFIED:20181229T184052Z
UID:3586-1548958500-1548963000@louth-ac.org.uk
SUMMARY:# Cordeaux Time Trial plus 2 miles
DESCRIPTION:31st Cordeaux Time Trial plus 2 miles
URL:https://louth-ac.org.uk/event/cordeaux-time-trial-plus-2-miles/
LOCATION:Bush Tyres\, North Holme Road\, Louth\, LN11 0HL
CATEGORIES:Member training,Wear Hi-Viz
END:VEVENT
BEGIN:VEVENT
DTSTART;TZID=UTC:20190205T181500
DTEND;TZID=UTC:20190205T193000
DTSTAMP:20260424T163125
CREATED:20190202T205042Z
LAST-MODIFIED:20190206T222501Z
UID:3723-1549390500-1549395000@louth-ac.org.uk
SUMMARY:# Cordeaux Time Trial
DESCRIPTION:5th Cordeaux Time Trial\n\n\n7th Town 4.5 miles\n\n\n12th Linden Walk Figure of Eight ( 3 laps seniors/2 laps juniors )\n\n\n14th 3k Time Trial\n\n\n19th Town 3.5 miles with strides\n\n\n21st 800 metre intervals\n\n\n26th Hospital Hill Time Trial\n\n\n28th Town 6 miles seniors\,/4 miles juniors
URL:https://louth-ac.org.uk/event/cordeaux-time-trial-7/
LOCATION:Cattle Market Car Park\, Off Linden Walk\, Linden Walk\, Louth\, LN11 9EQ
CATEGORIES:Member training,Wear Hi-Viz
END:VEVENT
BEGIN:VEVENT
DTSTART;TZID=UTC:20190207T181500
DTEND;TZID=UTC:20190207T193000
DTSTAMP:20260424T163125
CREATED:20190202T205131Z
LAST-MODIFIED:20190206T222631Z
UID:3725-1549563300-1549567800@louth-ac.org.uk
SUMMARY:# Town 4.5 miles
DESCRIPTION:7th Town 4.5 miles\n\n\n12th Linden Walk Figure of Eight ( 3 laps seniors/2 laps juniors )\n\n\n14th 3k Time Trial\n\n\n19th Town 3.5 miles with strides\n\n\n21st 800 metre intervals\n\n\n26th Hospital Hill Time Trial\n\n\n28th Town 6 miles seniors\,/4 miles juniors
URL:https://louth-ac.org.uk/event/town-4-5-miles-2/
LOCATION:Bush Tyres\, North Holme Road\, Louth\, LN11 0HL
CATEGORIES:Member training,Wear Hi-Viz
END:VEVENT
BEGIN:VEVENT
DTSTART;VALUE=DATE:20190210
DTEND;VALUE=DATE:20190211
DTSTAMP:20260424T163125
CREATED:20180906T175331Z
LAST-MODIFIED:20181215T124337Z
UID:3303-1549756800-1549843199@louth-ac.org.uk
SUMMARY:Lincs League Cross Country League Match 4
DESCRIPTION:Ostlers Plantation\,\nWoodhall Spa\,  LN10 6YY
URL:https://louth-ac.org.uk/event/lincs-league-cross-country-league-match-4/
LOCATION:Ostlers Plantation\, Woodhall Spa\, LN10 6YY
END:VEVENT
BEGIN:VEVENT
DTSTART;TZID=UTC:20190210T110000
DTEND;TZID=UTC:20190210T133000
DTSTAMP:20260424T163125
CREATED:20190109T203202Z
LAST-MODIFIED:20190109T203202Z
UID:3678-1549796400-1549805400@louth-ac.org.uk
SUMMARY:Run Your Heart Out Valentines 10k
DESCRIPTION:
URL:https://louth-ac.org.uk/event/run-your-heart-out-valentines-10k/
END:VEVENT
BEGIN:VEVENT
DTSTART;TZID=UTC:20190212T181500
DTEND;TZID=UTC:20190212T193000
DTSTAMP:20260424T163125
CREATED:20190202T205223Z
LAST-MODIFIED:20190206T222550Z
UID:3727-1549995300-1549999800@louth-ac.org.uk
SUMMARY:# Linden Walk Figure of Eight ( 3 laps seniors/2 laps juniors )
DESCRIPTION:12th Linden Walk Figure of Eight ( 3 laps seniors/2 laps juniors )\n\n\n14th 3k Time Trial\n\n\n19th Town 3.5 miles with strides\n\n\n21st 800 metre intervals\n\n\n26th Hospital Hill Time Trial\n\n\n28th Town 6 miles seniors\,/4 miles juniors
URL:https://louth-ac.org.uk/event/linden-walk-figure-of-eight-3-laps-seniors-2-laps-juniors/
LOCATION:Cattle Market Car Park\, Off Linden Walk\, Linden Walk\, Louth\, LN11 9EQ
CATEGORIES:Member training,Wear Hi-Viz
END:VEVENT
BEGIN:VEVENT
DTSTART;TZID=UTC:20190214T181500
DTEND;TZID=UTC:20190214T193000
DTSTAMP:20260424T163125
CREATED:20190202T205305Z
LAST-MODIFIED:20190206T222429Z
UID:3729-1550168100-1550172600@louth-ac.org.uk
SUMMARY:# 3k Time Trial
DESCRIPTION:14th 3k Time Trial\n\n\n19th Town 3.5 miles with strides\n\n\n21st 800 metre intervals\n\n\n26th Hospital Hill Time Trial\n\n\n28th Town 6 miles seniors\,/4 miles juniors
URL:https://louth-ac.org.uk/event/3k-time-trial-4/
LOCATION:Bush Tyres\, North Holme Road\, Louth\, LN11 0HL
CATEGORIES:Member training,Wear Hi-Viz
END:VEVENT
BEGIN:VEVENT
DTSTART;VALUE=DATE:20190217
DTEND;VALUE=DATE:20190218
DTSTAMP:20260424T163125
CREATED:20190109T193751Z
LAST-MODIFIED:20190109T193751Z
UID:3595-1550361600-1550447999@louth-ac.org.uk
SUMMARY:Stamford Striders Valentine's 30k
DESCRIPTION:
URL:https://louth-ac.org.uk/event/stamford-striders-valentines-30k/
END:VEVENT
BEGIN:VEVENT
DTSTART;TZID=UTC:20190219T181500
DTEND;TZID=UTC:20190219T193000
DTSTAMP:20260424T163125
CREATED:20190202T205400Z
LAST-MODIFIED:20190206T222333Z
UID:3731-1550600100-1550604600@louth-ac.org.uk
SUMMARY:# Town 3.5 miles with strides
DESCRIPTION:19th Town 3.5 miles with strides\n\n\n21st 800 metre intervals\n\n\n26th Hospital Hill Time Trial\n\n\n28th Town 6 miles seniors\,/4 miles juniors
URL:https://louth-ac.org.uk/event/town-3-5-miles-with-strides/
LOCATION:Cattle Market Car Park\, Off Linden Walk\, Linden Walk\, Louth\, LN11 9EQ
CATEGORIES:Member training,Wear Hi-Viz
END:VEVENT
BEGIN:VEVENT
DTSTART;TZID=UTC:20190221T181500
DTEND;TZID=UTC:20190221T193000
DTSTAMP:20260424T163125
CREATED:20190202T205453Z
LAST-MODIFIED:20190206T222307Z
UID:3733-1550772900-1550777400@louth-ac.org.uk
SUMMARY:# 800 metre intervals
DESCRIPTION:21st 800 metre intervals\n\n\n26th Hospital Hill Time Trial\n\n\n28th Town 6 miles seniors\,/4 miles juniors
URL:https://louth-ac.org.uk/event/800-metre-intervals/
LOCATION:Bush Tyres\, North Holme Road\, Louth\, LN11 0HL
CATEGORIES:Member training,Wear Hi-Viz
END:VEVENT
BEGIN:VEVENT
DTSTART;TZID=UTC:20190223T180000
DTEND;TZID=UTC:20190223T193000
DTSTAMP:20260424T163125
CREATED:20190109T203317Z
LAST-MODIFIED:20190109T203317Z
UID:3680-1550944800-1550950200@louth-ac.org.uk
SUMMARY:Knights of 7 Lakes 10k Night Race
DESCRIPTION:
URL:https://louth-ac.org.uk/event/knights-of-7-lakes-10k-night-race/
END:VEVENT
BEGIN:VEVENT
DTSTART;TZID=UTC:20190226T181500
DTEND;TZID=UTC:20190226T193000
DTSTAMP:20260424T163125
CREATED:20190202T205537Z
LAST-MODIFIED:20190206T222241Z
UID:3735-1551204900-1551209400@louth-ac.org.uk
SUMMARY:# Hospital Hill TT
DESCRIPTION:26th Hospital Hill Time Trial\n\n\n28th Town 6 miles seniors\,/4 miles juniors
URL:https://louth-ac.org.uk/event/hospital-hill-tt-6/
LOCATION:Cattle Market Car Park\, Off Linden Walk\, Linden Walk\, Louth\, LN11 9EQ
CATEGORIES:Member training,Wear Hi-Viz
END:VEVENT
BEGIN:VEVENT
DTSTART;TZID=UTC:20190228T181500
DTEND;TZID=UTC:20190228T193000
DTSTAMP:20260424T163125
CREATED:20190202T205621Z
LAST-MODIFIED:20190206T222145Z
UID:3737-1551377700-1551382200@louth-ac.org.uk
SUMMARY:# Town 6 miles seniors\,/4 miles juniors
DESCRIPTION:28th Town 6 miles seniors\,/4 miles juniors
URL:https://louth-ac.org.uk/event/town-6-miles-seniors-4-miles-juniors/
LOCATION:Bush Tyres\, North Holme Road\, Louth\, LN11 0HL
CATEGORIES:Member training,Wear Hi-Viz
END:VEVENT
BEGIN:VEVENT
DTSTART;TZID=UTC:20190305T181500
DTEND;TZID=UTC:20190305T193000
DTSTAMP:20260424T163125
CREATED:20190227T190841Z
LAST-MODIFIED:20190227T191046Z
UID:3870-1551809700-1551814200@louth-ac.org.uk
SUMMARY:# Town 4.5 miles
DESCRIPTION:5th Town 4.5 miles\n\n\n7th 800 intervals\n\n\n12th to be advised\n\n\n14th 3 k time trial\n\n\n19th Linden Walk Figure of Eight\n\n\n21st Town 6 mile for seniors\, 4 mile for juniors\n\n\n26th Hospital Hill\n\n\n28th 3 x 1k repetitions with 2 miles run afterwards
URL:https://louth-ac.org.uk/event/lac-town-4-5-miles/
LOCATION:Cattle Market Car Park\, Off Linden Walk\, Linden Walk\, Louth\, LN11 9EQ
CATEGORIES:Member training
END:VEVENT
END:VCALENDAR