BEGIN:VCALENDAR
VERSION:2.0
PRODID:-//Louth Athletics Club - ECPv6.0.13//NONSGML v1.0//EN
CALSCALE:GREGORIAN
METHOD:PUBLISH
X-ORIGINAL-URL:https://louth-ac.org.uk
X-WR-CALDESC:Events for Louth Athletics Club
REFRESH-INTERVAL;VALUE=DURATION:PT1H
X-Robots-Tag:noindex
X-PUBLISHED-TTL:PT1H
BEGIN:VTIMEZONE
TZID:UTC
BEGIN:STANDARD
TZOFFSETFROM:+0000
TZOFFSETTO:+0000
TZNAME:UTC
DTSTART:20190101T000000
END:STANDARD
END:VTIMEZONE
BEGIN:VEVENT
DTSTART;TZID=UTC:20190324T100000
DTEND;TZID=UTC:20190324T143000
DTSTAMP:20260424T193045
CREATED:20190109T194432Z
LAST-MODIFIED:20190109T194519Z
UID:3601-1553421600-1553437800@louth-ac.org.uk
SUMMARY:ALDI Ashby 20 (Event full)
DESCRIPTION:
URL:https://louth-ac.org.uk/event/aldi-ashby-20/
END:VEVENT
BEGIN:VEVENT
DTSTART;TZID=UTC:20190326T181500
DTEND;TZID=UTC:20190326T193000
DTSTAMP:20260424T193045
CREATED:20190227T191506Z
LAST-MODIFIED:20190227T191506Z
UID:3884-1553624100-1553628600@louth-ac.org.uk
SUMMARY:# Hospital Hill TT
DESCRIPTION:26th Hospital Hill\n\n\n28th 3 x 1k repetitions with 2 miles run afterwar
URL:https://louth-ac.org.uk/event/hospital-hill-tt-7/
LOCATION:Cattle Market Car Park\, Off Linden Walk\, Linden Walk\, Louth\, LN11 9EQ
CATEGORIES:Member training,Wear Hi-Viz
END:VEVENT
BEGIN:VEVENT
DTSTART;TZID=UTC:20190328T181500
DTEND;TZID=UTC:20190328T193000
DTSTAMP:20260424T193045
CREATED:20190227T191555Z
LAST-MODIFIED:20190227T191555Z
UID:3886-1553796900-1553801400@louth-ac.org.uk
SUMMARY:# 3 x 1k repetitions with 2 miles run afterwards
DESCRIPTION:
URL:https://louth-ac.org.uk/event/3-x-1k-repetitions-with-2-miles-run-afterwards/
LOCATION:Bush Tyres\, North Holme Road\, Louth\, LN11 0HL
CATEGORIES:Member training
END:VEVENT
BEGIN:VEVENT
DTSTART;TZID=UTC:20190330T090000
DTEND;TZID=UTC:20190330T140000
DTSTAMP:20260424T193045
CREATED:20190306T184300Z
LAST-MODIFIED:20190306T184421Z
UID:3926-1553936400-1553954400@louth-ac.org.uk
SUMMARY:LAC Clean up session - London Road
DESCRIPTION:30/31 Mar  \nClub track & bowl area clean-up at London Road site 9am onwards
URL:https://louth-ac.org.uk/event/lac-clean-up-session-london-road/
LOCATION:Louth Athletics Club\, London Road\, Louth\, Lincolnshire\, LN11 9QP\, United Kingdom
CATEGORIES:Clean-up Session
END:VEVENT
BEGIN:VEVENT
DTSTART;TZID=UTC:20190331T090000
DTEND;TZID=UTC:20190331T140000
DTSTAMP:20260424T193045
CREATED:20190306T184354Z
LAST-MODIFIED:20190306T184354Z
UID:3928-1554022800-1554040800@louth-ac.org.uk
SUMMARY:LAC Clean up session - London Road
DESCRIPTION:
URL:https://louth-ac.org.uk/event/lac-clean-up-session-london-road-2/
LOCATION:Louth Athletics Club\, London Road\, Louth\, Lincolnshire\, LN11 9QP\, United Kingdom
CATEGORIES:Clean-up Session
END:VEVENT
BEGIN:VEVENT
DTSTART;TZID=UTC:20190402T181500
DTEND;TZID=UTC:20190402T193000
DTSTAMP:20260424T193045
CREATED:20190327T152710Z
LAST-MODIFIED:20190327T152710Z
UID:3990-1554228900-1554233400@louth-ac.org.uk
SUMMARY:# Training from London Road
DESCRIPTION:Starting on Tuesday 2nd April\,every Tuesday we will meet at the London Road track. \nOn Thursdays we will endeavor to meet out of town at various locations. anyone wanting a lift from Louth please let me know and i will arrange for someone to pick you up and return you home afterwards. \n\n4th April North Cockerington School \n11th Red Hill\,Goulceby\,meeting at the bottom of Stenigot Hill \n18th Biscathorpe House \n25th Muckton\,meeting on Burwell Road at the wood entrance
URL:https://louth-ac.org.uk/event/training-from-london-road/
LOCATION:Louth Athletics Club\, London Road\, Louth\, Lincolnshire\, LN11 9QP\, United Kingdom
CATEGORIES:Member training
END:VEVENT
BEGIN:VEVENT
DTSTART;TZID=UTC:20190404T181500
DTEND;TZID=UTC:20190404T193000
DTSTAMP:20260424T193045
CREATED:20190327T153139Z
LAST-MODIFIED:20190327T153139Z
UID:4000-1554401700-1554406200@louth-ac.org.uk
SUMMARY:# North Cockerington
DESCRIPTION:4th April North Cockerington School \n\n11th Red Hill\,Goulceby\,meeting at the bottom of Stenigot Hill \n18th Biscathorpe House \n25th Muckton\,meeting on Burwell Road at the wood entrance
URL:https://louth-ac.org.uk/event/north-cockerington/
LOCATION:North Cockerington School\, LN11 7EP\, United Kingdom
CATEGORIES:Member training,Wear Hi-Viz
END:VEVENT
BEGIN:VEVENT
DTSTART;TZID=UTC:20190407T090000
DTEND;TZID=UTC:20190407T130000
DTSTAMP:20260424T193045
CREATED:20190109T195016Z
LAST-MODIFIED:20190109T195016Z
UID:3608-1554627600-1554642000@louth-ac.org.uk
SUMMARY:Loughborough Half Marathon and team relay
DESCRIPTION:
URL:https://louth-ac.org.uk/event/loughborough-half-marathon-and-team-relay/
END:VEVENT
BEGIN:VEVENT
DTSTART;TZID=UTC:20190407T094500
DTEND;TZID=UTC:20190407T113000
DTSTAMP:20260424T193045
CREATED:20190227T190535Z
LAST-MODIFIED:20190227T190535Z
UID:3868-1554630300-1554636600@louth-ac.org.uk
SUMMARY:Tealby Trail Run
DESCRIPTION:Hi everyone just a little reminder of the TEALBY TRAIL to put in your diary for 7th April. It is a 8.7 scenic route taking in varying hills. This year we are inviting walkers 8.30\, (maybe walk joggers would like to leave earlier too before the main stream participants who are timed and set off at 9.45). For all it is £8. We have a buffet and raffle after at HQ bowls/tennis pavilion on high st. Hope many of you can make this yearly event where we raise funds for the Lincs Air Ambulance. Happy Training.\nBarbara Brown – Wolds Vets
URL:https://louth-ac.org.uk/event/tealby-trail-run/
END:VEVENT
BEGIN:VEVENT
DTSTART;TZID=UTC:20190409T181500
DTEND;TZID=UTC:20190409T193000
DTSTAMP:20260424T193045
CREATED:20190327T152754Z
LAST-MODIFIED:20190327T152754Z
UID:3992-1554833700-1554838200@louth-ac.org.uk
SUMMARY:# Training from London Road
DESCRIPTION:Starting on Tuesday 2nd April\,every Tuesday we will meet at the London Road track. \nOn Thursdays we will endeavor to meet out of town at various locations. anyone wanting a lift from Louth please let me know and i will arrange for someone to pick you up and return you home afterwards. \n\n4th April North Cockerington School \n11th Red Hill\,Goulceby\,meeting at the bottom of Stenigot Hill \n18th Biscathorpe House \n25th Muckton\,meeting on Burwell Road at the wood entrance
URL:https://louth-ac.org.uk/event/training-from-london-road-2/
LOCATION:Louth Athletics Club\, London Road\, Louth\, Lincolnshire\, LN11 9QP\, United Kingdom
CATEGORIES:Member training
END:VEVENT
BEGIN:VEVENT
DTSTART;TZID=UTC:20190411T181500
DTEND;TZID=UTC:20190411T193000
DTSTAMP:20260424T193045
CREATED:20190327T153238Z
LAST-MODIFIED:20190327T153238Z
UID:4002-1555006500-1555011000@louth-ac.org.uk
SUMMARY:# Red Hill
DESCRIPTION:11th Red Hill\,Goulceby\,meeting at the bottom of Stenigot Hill \n18th Biscathorpe House \n25th Muckton\,meeting on Burwell Road at the wood entrance
URL:https://louth-ac.org.uk/event/red-hill/
LOCATION:St Nicholas Church\, Stenigot\, Hall Lane\, Stenigot\, LN11 9SH
CATEGORIES:Member training,Wear Hi-Viz
END:VEVENT
BEGIN:VEVENT
DTSTART;VALUE=DATE:20190414
DTEND;VALUE=DATE:20190415
DTSTAMP:20260424T193045
CREATED:20190109T195216Z
LAST-MODIFIED:20190109T195216Z
UID:3610-1555200000-1555286399@louth-ac.org.uk
SUMMARY:Boston Marathon (UK) 2019 - Boston Half Marathon (UK) 2019
DESCRIPTION:
URL:https://louth-ac.org.uk/event/boston-marathon-uk-2019-boston-half-marathon-uk-2019/
END:VEVENT
BEGIN:VEVENT
DTSTART;TZID=UTC:20190414T100000
DTEND;TZID=UTC:20190414T130000
DTSTAMP:20260424T193045
CREATED:20190109T195319Z
LAST-MODIFIED:20190109T195319Z
UID:3612-1555236000-1555246800@louth-ac.org.uk
SUMMARY:Belvoir Half Marathon
DESCRIPTION:
URL:https://louth-ac.org.uk/event/belvoir-half-marathon/
END:VEVENT
BEGIN:VEVENT
DTSTART;TZID=UTC:20190414T100000
DTEND;TZID=UTC:20190414T130000
DTSTAMP:20260424T193045
CREATED:20190109T195433Z
LAST-MODIFIED:20190109T195433Z
UID:3614-1555236000-1555246800@louth-ac.org.uk
SUMMARY:The Rutland Spring Half Marathon
DESCRIPTION:
URL:https://louth-ac.org.uk/event/the-rutland-spring-half-marathon/
END:VEVENT
BEGIN:VEVENT
DTSTART;TZID=UTC:20190416T181500
DTEND;TZID=UTC:20190416T193000
DTSTAMP:20260424T193045
CREATED:20190327T152852Z
LAST-MODIFIED:20190327T152852Z
UID:3994-1555438500-1555443000@louth-ac.org.uk
SUMMARY:# Training from London Road
DESCRIPTION:Starting on Tuesday 2nd April\,every Tuesday we will meet at the London Road track. \nOn Thursdays we will endeavor to meet out of town at various locations. anyone wanting a lift from Louth please let me know and i will arrange for someone to pick you up and return you home afterwards. \n\n4th April North Cockerington School \n11th Red Hill\,Goulceby\,meeting at the bottom of Stenigot Hill \n18th Biscathorpe House \n25th Muckton\,meeting on Burwell Road at the wood entrance
URL:https://louth-ac.org.uk/event/training-from-london-road-3/
LOCATION:Louth Athletics Club\, London Road\, Louth\, Lincolnshire\, LN11 9QP\, United Kingdom
CATEGORIES:Member training
END:VEVENT
BEGIN:VEVENT
DTSTART;TZID=UTC:20190418T181500
DTEND;TZID=UTC:20190418T193000
DTSTAMP:20260424T193045
CREATED:20190327T153322Z
LAST-MODIFIED:20190327T153322Z
UID:4004-1555611300-1555615800@louth-ac.org.uk
SUMMARY:# Biscathorpe
DESCRIPTION:18th Biscathorpe House \n25th Muckton\,meeting on Burwell Road at the wood entrance
URL:https://louth-ac.org.uk/event/biscathorpe-2/
LOCATION:Biscathorpe\, Biscathorpe House\, Lincolnshire\, LN11 9RA\, United Kingdom
CATEGORIES:Member training,Wear Hi-Viz
END:VEVENT
BEGIN:VEVENT
DTSTART;TZID=UTC:20190419T104500
DTEND;TZID=UTC:20190419T133000
DTSTAMP:20260424T193045
CREATED:20190109T195541Z
LAST-MODIFIED:20190109T195541Z
UID:3616-1555670700-1555680600@louth-ac.org.uk
SUMMARY:Epworth Easter Egg 10k Trail Race and Fun Run
DESCRIPTION:
URL:https://louth-ac.org.uk/event/epworth-easter-egg-10k-trail-race-and-fun-run/
END:VEVENT
BEGIN:VEVENT
DTSTART;TZID=UTC:20190421T103000
DTEND;TZID=UTC:20190421T120000
DTSTAMP:20260424T193045
CREATED:20190206T212446Z
LAST-MODIFIED:20190206T212446Z
UID:3770-1555842600-1555848000@louth-ac.org.uk
SUMMARY:LAC Easter Run
DESCRIPTION:21st April Easter Run\,  \nHubbard Hills\,  \n10.30am start\,  \nentry £2.50\,  \nregister at Cafe \nAll welcome – Adults and Children\, Runners\, Walkers\, dogs on leads
URL:https://louth-ac.org.uk/event/lac-easter-run/
LOCATION:Hubbards Hills\, Crowtree Lane\, Louth\, Lincolnshire\, LN11 9QU\, United Kingdom
END:VEVENT
BEGIN:VEVENT
DTSTART;TZID=UTC:20190421T103000
DTEND;TZID=UTC:20190421T120000
DTSTAMP:20260424T193045
CREATED:20190306T184136Z
LAST-MODIFIED:20190306T184136Z
UID:3924-1555842600-1555848000@louth-ac.org.uk
SUMMARY:LAC Easter Fun Run
DESCRIPTION:21st April Easter Run\,  \nHubbard Hills\,  \n10.30am start\,  \nentry £2.50\, register at Cafe \nAll welcome\, walkers\, runners\, adults\, kids and dogs on a lead
URL:https://louth-ac.org.uk/event/lac-easter-fun-run/
LOCATION:Hubbards Hills\, Crowtree Lane\, Louth\, Lincolnshire\, LN11 9QU\, United Kingdom
END:VEVENT
BEGIN:VEVENT
DTSTART;TZID=UTC:20190422T100000
DTEND;TZID=UTC:20190422T130000
DTSTAMP:20260424T193045
CREATED:20190109T195707Z
LAST-MODIFIED:20190109T195707Z
UID:3618-1555927200-1555938000@louth-ac.org.uk
SUMMARY:Notts Easter 10k
DESCRIPTION:
URL:https://louth-ac.org.uk/event/notts-easter-10k/
END:VEVENT
BEGIN:VEVENT
DTSTART;TZID=UTC:20190423T181500
DTEND;TZID=UTC:20190423T193000
DTSTAMP:20260424T193045
CREATED:20190327T155711Z
LAST-MODIFIED:20190421T150344Z
UID:4006-1556043300-1556047800@louth-ac.org.uk
SUMMARY:# Muckton
DESCRIPTION:25th Muckton\,meeting on Burwell Road at the wood entrance \n 
URL:https://louth-ac.org.uk/event/muckton/
CATEGORIES:Member training,Wear Hi-Viz
END:VEVENT
BEGIN:VEVENT
DTSTART;TZID=UTC:20190425T181500
DTEND;TZID=UTC:20190425T193000
DTSTAMP:20260424T193045
CREATED:20190327T153031Z
LAST-MODIFIED:20190421T150627Z
UID:3998-1556216100-1556220600@louth-ac.org.uk
SUMMARY:# Training from London Road
DESCRIPTION:Starting on Tuesday 2nd April\,every Tuesday we will meet at the London Road track. \nOn Thursdays we will endeavor to meet out of town at various locations. anyone wanting a lift from Louth please let me know and i will arrange for someone to pick you up and return you home afterwards. \n\n4th April North Cockerington School \n11th Red Hill\,Goulceby\,meeting at the bottom of Stenigot Hill \n18th Biscathorpe House \n25th Muckton\,meeting on Burwell Road at the wood entrance
URL:https://louth-ac.org.uk/event/training-from-london-road-5/
LOCATION:Louth Athletics Club\, London Road\, Louth\, Lincolnshire\, LN11 9QP\, United Kingdom
CATEGORIES:Member training
END:VEVENT
BEGIN:VEVENT
DTSTART;TZID=UTC:20190426T190000
DTEND;TZID=UTC:20190426T220000
DTSTAMP:20260424T193045
CREATED:20190312T110415Z
LAST-MODIFIED:20190312T113813Z
UID:3971-1556305200-1556316000@louth-ac.org.uk
SUMMARY:Louth Athletic Club Quiz Night
DESCRIPTION:Friday 26th April \n7 for 7.3opm for a quiz night at the Hospital Club \nThe charge will be £1 per person & there will be a raffle too. The hospital club bar will also be open.
URL:https://louth-ac.org.uk/event/louth-athletic-club-quiz-night/
LOCATION:Louth Hospital Social Club\, High Holme Road\, Louth\, LN11 0EU\, United Kingdom
END:VEVENT
BEGIN:VEVENT
DTSTART;VALUE=DATE:20190428
DTEND;VALUE=DATE:20190429
DTSTAMP:20260424T193045
CREATED:20190109T210616Z
LAST-MODIFIED:20190109T210616Z
UID:3714-1556409600-1556495999@louth-ac.org.uk
SUMMARY:London Marathon
DESCRIPTION:
URL:https://louth-ac.org.uk/event/london-marathon-4/
END:VEVENT
BEGIN:VEVENT
DTSTART;TZID=UTC:20190428T110000
DTEND;TZID=UTC:20190428T170000
DTSTAMP:20260424T193045
CREATED:20190403T192640Z
LAST-MODIFIED:20190403T192640Z
UID:4027-1556449200-1556470800@louth-ac.org.uk
SUMMARY:Authorpe 10k Fun Run
DESCRIPTION:
URL:https://louth-ac.org.uk/event/authorpe-10k-fun-run/
LOCATION:Authorpe Village Hall
END:VEVENT
BEGIN:VEVENT
DTSTART;TZID=UTC:20190501T180000
DTEND;TZID=UTC:20190501T200000
DTSTAMP:20260424T193045
CREATED:20190109T205911Z
LAST-MODIFIED:20190109T205911Z
UID:3704-1556733600-1556740800@louth-ac.org.uk
SUMMARY:Croxby Crawl (1 lap)
DESCRIPTION:
URL:https://louth-ac.org.uk/event/croxby-crawl-1-lap/
LOCATION:Croxby Top\, (close to Croxby Ponds)\, Lincolnshire\, DN370TR\, United Kingdom
ORGANIZER;CN="Cleethorpes%20Athletic%20Club":MAILTO:kev_green@hotmail.co.uk
END:VEVENT
BEGIN:VEVENT
DTSTART;TZID=UTC:20190502T181500
DTEND;TZID=UTC:20190502T193000
DTSTAMP:20260424T193045
CREATED:20190327T152943Z
LAST-MODIFIED:20190421T150728Z
UID:3996-1556820900-1556825400@louth-ac.org.uk
SUMMARY:# Training from London Road
DESCRIPTION:Starting on Tuesday 2nd April\,every Tuesday we will meet at the London Road track. \nOn Thursdays we will endeavor to meet out of town at various locations. anyone wanting a lift from Louth please let me know and i will arrange for someone to pick you up and return you home afterwards. \n\n4th April North Cockerington School \n11th Red Hill\,Goulceby\,meeting at the bottom of Stenigot Hill \n18th Biscathorpe House \n25th Muckton\,meeting on Burwell Road at the wood entrance
URL:https://louth-ac.org.uk/event/training-from-london-road-4/
LOCATION:Louth Athletics Club\, London Road\, Louth\, Lincolnshire\, LN11 9QP\, United Kingdom
CATEGORIES:Member training
END:VEVENT
BEGIN:VEVENT
DTSTART;TZID=UTC:20190503T170000
DTEND;TZID=UTC:20190503T200000
DTSTAMP:20260424T193045
CREATED:20190403T191718Z
LAST-MODIFIED:20190403T191719Z
UID:4023-1556902800-1556913600@louth-ac.org.uk
SUMMARY:LAC London Road Clean-up Session
DESCRIPTION:All welcome
URL:https://louth-ac.org.uk/event/lac-london-road-clean-up-session/
LOCATION:Louth Athletics Club\, London Road\, Louth\, Lincolnshire\, LN11 9QP\, United Kingdom
CATEGORIES:Clean-up Session
END:VEVENT
BEGIN:VEVENT
DTSTART;TZID=UTC:20190505T090000
DTEND;TZID=UTC:20190505T120000
DTSTAMP:20260424T193045
CREATED:20190109T203546Z
LAST-MODIFIED:20190109T203546Z
UID:3684-1557046800-1557057600@louth-ac.org.uk
SUMMARY:North Lincolnshire Half Marathon
DESCRIPTION:
URL:https://louth-ac.org.uk/event/north-lincolnshire-half-marathon-2/
END:VEVENT
BEGIN:VEVENT
DTSTART;TZID=UTC:20190505T094500
DTEND;TZID=UTC:20190505T130000
DTSTAMP:20260424T193045
CREATED:20190109T195808Z
LAST-MODIFIED:20190109T195808Z
UID:3620-1557049500-1557061200@louth-ac.org.uk
SUMMARY:Sleaford Half Marathon
DESCRIPTION:
URL:https://louth-ac.org.uk/event/sleaford-half-marathon-4/
END:VEVENT
END:VCALENDAR